Package: cellscape Version: 1.31.0 Command: /Library/Frameworks/R.framework/Resources/bin/R CMD INSTALL cellscape StartedAt: 2025-02-20 15:25:11 -0500 (Thu, 20 Feb 2025) EndedAt: 2025-02-20 15:25:17 -0500 (Thu, 20 Feb 2025) EllapsedTime: 5.9 seconds RetCode: 0 Status: OK