Package: cellscape Version: 1.31.0 Command: /Library/Frameworks/R.framework/Resources/bin/R CMD build --keep-empty-dirs --no-resave-data cellscape StartedAt: 2025-02-20 16:09:05 -0500 (Thu, 20 Feb 2025) EndedAt: 2025-02-20 16:09:15 -0500 (Thu, 20 Feb 2025) EllapsedTime: 10.3 seconds RetCode: 0 Status: OK PackageFile: cellscape_1.31.0.tar.gz PackageFileSize: 897.2 KiB