Package: cellscape Version: 1.31.0 Command: rm -rf cellscape.buildbin-libdir && mkdir cellscape.buildbin-libdir && /Users/biocbuild/BBS/utils/build-universal.sh cellscape_1.31.0.tar.gz /Library/Frameworks/R.framework/Resources/bin/R cellscape.buildbin-libdir StartedAt: 2025-02-21 00:23:04 -0500 (Fri, 21 Feb 2025) EndedAt: 2025-02-21 00:23:11 -0500 (Fri, 21 Feb 2025) EllapsedTime: 7.0 seconds RetCode: 0 Status: OK PackageFile: cellscape_1.31.0.tgz PackageFileSize: 884.4 KiB