Package: cellmigRation Version: 1.15.0 Command: E:\biocbuild\bbs-3.21-bioc\R\bin\R.exe CMD INSTALL cellmigRation StartedAt: 2025-02-20 16:00:45 -0500 (Thu, 20 Feb 2025) EndedAt: 2025-02-20 16:03:54 -0500 (Thu, 20 Feb 2025) EllapsedTime: 188.8 seconds RetCode: 0 Status: OK