Package: cellmigRation Version: 1.15.0 Command: rm -rf cellmigRation.buildbin-libdir && mkdir cellmigRation.buildbin-libdir && E:\biocbuild\bbs-3.21-bioc\R\bin\R.exe CMD INSTALL --build --library=cellmigRation.buildbin-libdir cellmigRation_1.15.0.tar.gz StartedAt: 2025-02-21 07:44:59 -0500 (Fri, 21 Feb 2025) EndedAt: 2025-02-21 07:48:40 -0500 (Fri, 21 Feb 2025) EllapsedTime: 220.7 seconds RetCode: 0 Status: OK PackageFile: cellmigRation_1.15.0.zip PackageFileSize: 1.535 MiB