Package: cellmigRation Version: 1.15.0 Command: /home/biocbuild/bbs-3.21-bioc/R/bin/R CMD build --keep-empty-dirs --no-resave-data cellmigRation StartedAt: 2025-02-21 17:11:01 -0500 (Fri, 21 Feb 2025) EndedAt: 2025-02-21 17:13:10 -0500 (Fri, 21 Feb 2025) EllapsedTime: 128.1 seconds RetCode: 0 Status: OK PackageFile: cellmigRation_1.15.0.tar.gz PackageFileSize: 1.153 MiB