Package: cellmigRation Version: 1.15.0 Command: /Library/Frameworks/R.framework/Resources/bin/R CMD build --keep-empty-dirs --no-resave-data cellmigRation StartedAt: 2025-02-20 15:50:23 -0500 (Thu, 20 Feb 2025) EndedAt: 2025-02-20 15:51:07 -0500 (Thu, 20 Feb 2025) EllapsedTime: 44.5 seconds RetCode: 0 Status: OK PackageFile: cellmigRation_1.15.0.tar.gz PackageFileSize: 1.364 MiB