Package: cellity Version: 1.35.0 Command: E:\biocbuild\bbs-3.21-bioc\R\bin\R.exe CMD INSTALL cellity StartedAt: 2025-02-20 15:48:17 -0500 (Thu, 20 Feb 2025) EndedAt: 2025-02-20 15:48:57 -0500 (Thu, 20 Feb 2025) EllapsedTime: 39.7 seconds RetCode: 0 Status: OK