Package: cellity Version: 1.35.0 Command: chmod a+r cellity -R && E:\biocbuild\bbs-3.21-bioc\R\bin\R.exe CMD build --keep-empty-dirs --no-resave-data cellity StartedAt: 2025-02-20 17:46:23 -0500 (Thu, 20 Feb 2025) EndedAt: 2025-02-20 17:48:07 -0500 (Thu, 20 Feb 2025) EllapsedTime: 103.3 seconds RetCode: 0 Status: OK PackageFile: cellity_1.35.0.tar.gz PackageFileSize: 1.071 MiB