Package: cellity Version: 1.35.0 Command: /home/biocbuild/bbs-3.21-bioc/R/bin/R CMD INSTALL cellity StartedAt: 2025-02-20 15:52:36 -0500 (Thu, 20 Feb 2025) EndedAt: 2025-02-20 15:52:54 -0500 (Thu, 20 Feb 2025) EllapsedTime: 17.8 seconds RetCode: 0 Status: OK