Package: cellity Version: 1.35.0 Command: /home/biocbuild/bbs-3.21-bioc/R/bin/R CMD build --keep-empty-dirs --no-resave-data cellity StartedAt: 2025-02-20 16:49:23 -0500 (Thu, 20 Feb 2025) EndedAt: 2025-02-20 16:50:29 -0500 (Thu, 20 Feb 2025) EllapsedTime: 66.0 seconds RetCode: 0 Status: OK PackageFile: cellity_1.35.0.tar.gz PackageFileSize: 1.232 MiB