Package: cellbaseR Version: 1.31.0 Command: /home/biocbuild/bbs-3.21-bioc/R/bin/R CMD check --install=check:cellbaseR.install-out.txt --library=/home/biocbuild/bbs-3.21-bioc/R/site-library --timings cellbaseR_1.31.0.tar.gz StartedAt: 2025-02-20 20:37:20 -0500 (Thu, 20 Feb 2025) EndedAt: 2025-02-20 20:39:34 -0500 (Thu, 20 Feb 2025) EllapsedTime: 134.1 seconds RetCode: 0 Status: OK CheckDir: cellbaseR.Rcheck Warnings: 0