Package: cellbaseR Version: 1.31.0 Command: /home/biocbuild/bbs-3.21-bioc/R/bin/R CMD build --keep-empty-dirs --no-resave-data cellbaseR StartedAt: 2025-02-20 16:49:18 -0500 (Thu, 20 Feb 2025) EndedAt: 2025-02-20 16:50:04 -0500 (Thu, 20 Feb 2025) EllapsedTime: 46.0 seconds RetCode: 0 Status: OK PackageFile: cellbaseR_1.31.0.tar.gz PackageFileSize: 520.4 KiB