Package: cellbaseR Version: 1.31.0 Command: /Library/Frameworks/R.framework/Resources/bin/R CMD INSTALL cellbaseR StartedAt: 2025-02-20 15:14:46 -0500 (Thu, 20 Feb 2025) EndedAt: 2025-02-20 15:15:06 -0500 (Thu, 20 Feb 2025) EllapsedTime: 19.5 seconds RetCode: 0 Status: OK