Package: celda Version: 1.23.1 Command: /Library/Frameworks/R.framework/Resources/bin/R CMD INSTALL celda StartedAt: 2025-02-20 15:39:58 -0500 (Thu, 20 Feb 2025) EndedAt: 2025-02-20 15:41:17 -0500 (Thu, 20 Feb 2025) EllapsedTime: 78.4 seconds RetCode: 0 Status: OK