Package: celda Version: 1.23.1 Command: /Library/Frameworks/R.framework/Resources/bin/R CMD check --install=check:celda.install-out.txt --library=/Library/Frameworks/R.framework/Resources/library --no-vignettes --timings celda_1.23.1.tar.gz StartedAt: 2025-02-20 18:26:01 -0500 (Thu, 20 Feb 2025) EndedAt: 2025-02-20 18:29:26 -0500 (Thu, 20 Feb 2025) EllapsedTime: 205.6 seconds RetCode: 0 Status: OK CheckDir: celda.Rcheck Warnings: 0