Package: celda Version: 1.23.1 Command: rm -rf celda.buildbin-libdir && mkdir celda.buildbin-libdir && /Users/biocbuild/BBS/utils/build-universal.sh celda_1.23.1.tar.gz /Library/Frameworks/R.framework/Resources/bin/R celda.buildbin-libdir StartedAt: 2025-02-20 22:12:58 -0500 (Thu, 20 Feb 2025) EndedAt: 2025-02-20 22:13:23 -0500 (Thu, 20 Feb 2025) EllapsedTime: 24.5 seconds RetCode: 0 Status: OK PackageFile: celda_1.23.1.tgz PackageFileSize: 3.4 MiB