Package: celaref Version: 1.25.0 Command: /Library/Frameworks/R.framework/Resources/bin/R CMD INSTALL celaref StartedAt: 2025-02-19 15:12:29 -0500 (Wed, 19 Feb 2025) EndedAt: 2025-02-19 15:13:09 -0500 (Wed, 19 Feb 2025) EllapsedTime: 39.8 seconds RetCode: 0 Status: OK