Package: ceRNAnetsim Version: 1.19.0 Command: E:\biocbuild\bbs-3.21-bioc\R\bin\R.exe CMD INSTALL ceRNAnetsim StartedAt: 2025-02-20 15:49:59 -0500 (Thu, 20 Feb 2025) EndedAt: 2025-02-20 15:50:24 -0500 (Thu, 20 Feb 2025) EllapsedTime: 25.0 seconds RetCode: 0 Status: OK