Package: ceRNAnetsim Version: 1.19.0 Command: E:\biocbuild\bbs-3.21-bioc\R\bin\R.exe CMD check --no-multiarch --install=check:ceRNAnetsim.install-out.txt --library=E:\biocbuild\bbs-3.21-bioc\R\library --no-vignettes --timings ceRNAnetsim_1.19.0.tar.gz StartedAt: 2025-02-20 23:43:12 -0500 (Thu, 20 Feb 2025) EndedAt: 2025-02-20 23:45:36 -0500 (Thu, 20 Feb 2025) EllapsedTime: 144.4 seconds RetCode: 0 Status: OK CheckDir: ceRNAnetsim.Rcheck Warnings: 0