Package: ceRNAnetsim Version: 1.19.0 Command: /Library/Frameworks/R.framework/Resources/bin/R CMD build --keep-empty-dirs --no-resave-data ceRNAnetsim StartedAt: 2025-02-19 16:10:17 -0500 (Wed, 19 Feb 2025) EndedAt: 2025-02-19 16:15:06 -0500 (Wed, 19 Feb 2025) EllapsedTime: 289.5 seconds RetCode: 0 Status: OK PackageFile: ceRNAnetsim_1.19.0.tar.gz PackageFileSize: 3.054 MiB