Package: ccrepe Version: 1.43.0 Command: E:\biocbuild\bbs-3.21-bioc\R\bin\R.exe CMD INSTALL ccrepe StartedAt: 2025-02-18 15:18:16 -0500 (Tue, 18 Feb 2025) EndedAt: 2025-02-18 15:18:29 -0500 (Tue, 18 Feb 2025) EllapsedTime: 13.1 seconds RetCode: 0 Status: OK