Package: ccrepe Version: 1.43.0 Command: /Library/Frameworks/R.framework/Resources/bin/R CMD build --keep-empty-dirs --no-resave-data ccrepe StartedAt: 2025-02-18 16:08:03 -0500 (Tue, 18 Feb 2025) EndedAt: 2025-02-18 16:08:20 -0500 (Tue, 18 Feb 2025) EllapsedTime: 17.1 seconds RetCode: 0 Status: OK PackageFile: ccrepe_1.43.0.tar.gz PackageFileSize: 304.4 KiB