Package: ccImpute Version: 1.9.0 Command: rm -rf ccImpute.buildbin-libdir && mkdir ccImpute.buildbin-libdir && /Users/biocbuild/BBS/utils/build-universal.sh ccImpute_1.9.0.tar.gz /Library/Frameworks/R.framework/Resources/bin/R ccImpute.buildbin-libdir StartedAt: 2025-02-21 00:22:41 -0500 (Fri, 21 Feb 2025) EndedAt: 2025-02-21 00:23:35 -0500 (Fri, 21 Feb 2025) EllapsedTime: 54.3 seconds RetCode: 0 Status: OK PackageFile: ccImpute_1.9.0.tgz PackageFileSize: 1.068 MiB