Package: ccImpute Version: 1.9.0 Command: /home/biocbuild/R/R/bin/R CMD build --keep-empty-dirs --no-resave-data ccImpute StartedAt: 2025-01-28 21:36:47 -0000 (Tue, 28 Jan 2025) EndedAt: 2025-01-28 21:40:45 -0000 (Tue, 28 Jan 2025) EllapsedTime: 238.1 seconds RetCode: 0 Status: OK PackageFile: ccImpute_1.9.0.tar.gz PackageFileSize: 1011 KiB