Package: cbpManager Version: 1.15.0 Command: /home/biocbuild/bbs-3.21-bioc/R/bin/R CMD check --install=check:cbpManager.install-out.txt --library=/home/biocbuild/bbs-3.21-bioc/R/site-library --timings cbpManager_1.15.0.tar.gz StartedAt: 2025-02-18 20:30:28 -0500 (Tue, 18 Feb 2025) EndedAt: 2025-02-18 20:31:29 -0500 (Tue, 18 Feb 2025) EllapsedTime: 61.0 seconds RetCode: 0 Status: WARNINGS CheckDir: cbpManager.Rcheck Warnings: 1