Package: cbpManager Version: 1.15.0 Command: /Library/Frameworks/R.framework/Resources/bin/R CMD INSTALL cbpManager StartedAt: 2025-02-19 15:26:54 -0500 (Wed, 19 Feb 2025) EndedAt: 2025-02-19 15:27:09 -0500 (Wed, 19 Feb 2025) EllapsedTime: 14.6 seconds RetCode: 0 Status: OK