Package: cbpManager Version: 1.15.0 Command: /Library/Frameworks/R.framework/Resources/bin/R CMD build --keep-empty-dirs --no-resave-data cbpManager StartedAt: 2025-02-18 15:49:37 -0500 (Tue, 18 Feb 2025) EndedAt: 2025-02-18 15:49:43 -0500 (Tue, 18 Feb 2025) EllapsedTime: 6.1 seconds RetCode: 0 Status: OK PackageFile: cbpManager_1.15.0.tar.gz PackageFileSize: 4.64 MiB