Package: cbaf Version: 1.29.0 Command: E:\biocbuild\bbs-3.21-bioc\R\bin\R.exe CMD INSTALL cbaf StartedAt: 2025-02-20 16:54:22 -0500 (Thu, 20 Feb 2025) EndedAt: 2025-02-20 16:55:19 -0500 (Thu, 20 Feb 2025) EllapsedTime: 56.5 seconds RetCode: 0 Status: OK