Package: categoryCompare Version: 1.51.0 Command: /home/biocbuild/bbs-3.21-bioc/R/bin/R CMD INSTALL categoryCompare StartedAt: 2025-02-20 15:55:04 -0500 (Thu, 20 Feb 2025) EndedAt: 2025-02-20 15:55:05 -0500 (Thu, 20 Feb 2025) EllapsedTime: 1.0 seconds RetCode: 1 Status: ERROR