Package: categoryCompare Version: 1.51.0 Command: /home/biocbuild/bbs-3.21-bioc/R/bin/R CMD build --keep-empty-dirs --no-resave-data categoryCompare StartedAt: 2025-02-19 16:31:13 -0500 (Wed, 19 Feb 2025) EndedAt: 2025-02-19 16:33:39 -0500 (Wed, 19 Feb 2025) EllapsedTime: 146.1 seconds RetCode: 0 Status: OK PackageFile: categoryCompare_1.51.0.tar.gz PackageFileSize: 3.162 MiB