############################################################################## ############################################################################## ### ### Running command: ### ### /home/biocbuild/bbs-3.21-bioc/R/bin/R CMD build --keep-empty-dirs --no-resave-data categoryCompare ### ############################################################################## ############################################################################## * checking for file ‘categoryCompare/DESCRIPTION’ ... OK * preparing ‘categoryCompare’: * checking DESCRIPTION meta-information ... OK * installing the package to build vignettes ----------------------------------- ERROR: dependency ‘GOstats’ is not available for package ‘categoryCompare’ Perhaps try a variation of: install.packages('GOstats') * removing ‘/tmp/RtmpSaaGqo/Rinst1231a9791035de/categoryCompare’ ----------------------------------- ERROR: package installation failed