Package: casper Version: 2.41.0 Command: chmod a+r casper -R && E:\biocbuild\bbs-3.21-bioc\R\bin\R.exe CMD build --keep-empty-dirs --no-resave-data casper StartedAt: 2025-02-20 17:42:37 -0500 (Thu, 20 Feb 2025) EndedAt: 2025-02-20 17:45:29 -0500 (Thu, 20 Feb 2025) EllapsedTime: 171.9 seconds RetCode: 0 Status: OK PackageFile: casper_2.41.0.tar.gz PackageFileSize: 2.103 MiB