Package: cardelino Version: 1.9.0 Command: /Library/Frameworks/R.framework/Resources/bin/R CMD INSTALL cardelino StartedAt: 2025-02-18 15:23:11 -0500 (Tue, 18 Feb 2025) EndedAt: 2025-02-18 15:23:28 -0500 (Tue, 18 Feb 2025) EllapsedTime: 17.2 seconds RetCode: 0 Status: OK