Package: cancerclass Version: 1.51.0 Command: /home/biocbuild/bbs-3.21-bioc/R/bin/R CMD check --install=check:cancerclass.install-out.txt --library=/home/biocbuild/bbs-3.21-bioc/R/site-library --timings cancerclass_1.51.0.tar.gz StartedAt: 2025-02-20 20:32:37 -0500 (Thu, 20 Feb 2025) EndedAt: 2025-02-20 20:33:40 -0500 (Thu, 20 Feb 2025) EllapsedTime: 63.0 seconds RetCode: 0 Status: OK CheckDir: cancerclass.Rcheck Warnings: 0