Package: cancerclass Version: 1.51.0 Command: /Library/Frameworks/R.framework/Resources/bin/R CMD check --install=check:cancerclass.install-out.txt --library=/Library/Frameworks/R.framework/Resources/library --no-vignettes --timings cancerclass_1.51.0.tar.gz StartedAt: 2025-02-20 18:23:10 -0500 (Thu, 20 Feb 2025) EndedAt: 2025-02-20 18:23:33 -0500 (Thu, 20 Feb 2025) EllapsedTime: 23.2 seconds RetCode: 0 Status: WARNINGS CheckDir: cancerclass.Rcheck Warnings: 1