Package: cancerclass Version: 1.51.0 Command: /Library/Frameworks/R.framework/Resources/bin/R CMD build --keep-empty-dirs --no-resave-data cancerclass StartedAt: 2025-02-20 15:47:31 -0500 (Thu, 20 Feb 2025) EndedAt: 2025-02-20 15:47:41 -0500 (Thu, 20 Feb 2025) EllapsedTime: 10.1 seconds RetCode: 0 Status: OK PackageFile: cancerclass_1.51.0.tar.gz PackageFileSize: 1.524 MiB