Package: canceR Version: 1.41.0 Command: E:\biocbuild\bbs-3.21-bioc\R\bin\R.exe CMD INSTALL canceR StartedAt: 2025-02-19 16:51:04 -0500 (Wed, 19 Feb 2025) EndedAt: 2025-02-19 16:52:54 -0500 (Wed, 19 Feb 2025) EllapsedTime: 110.3 seconds RetCode: 0 Status: OK