Package: canceR Version: 1.41.0 Command: chmod a+r canceR -R && E:\biocbuild\bbs-3.21-bioc\R\bin\R.exe CMD build --keep-empty-dirs --no-resave-data canceR StartedAt: 2025-02-19 17:40:16 -0500 (Wed, 19 Feb 2025) EndedAt: 2025-02-19 17:41:59 -0500 (Wed, 19 Feb 2025) EllapsedTime: 102.7 seconds RetCode: 0 Status: OK PackageFile: canceR_1.41.0.tar.gz PackageFileSize: 31.46 MiB