Package: canceR Version: 1.41.0 Command: /home/biocbuild/bbs-3.21-bioc/R/bin/R CMD check --install=check:canceR.install-out.txt --library=/home/biocbuild/bbs-3.21-bioc/R/site-library --timings canceR_1.41.0.tar.gz StartedAt: 2025-02-19 20:33:34 -0500 (Wed, 19 Feb 2025) EndedAt: 2025-02-19 20:40:57 -0500 (Wed, 19 Feb 2025) EllapsedTime: 443.5 seconds RetCode: 0 Status: WARNINGS CheckDir: canceR.Rcheck Warnings: 1