Package: canceR Version: 1.41.0 Command: /Library/Frameworks/R.framework/Resources/bin/R CMD INSTALL canceR StartedAt: 2025-02-19 15:26:49 -0500 (Wed, 19 Feb 2025) EndedAt: 2025-02-19 15:27:26 -0500 (Wed, 19 Feb 2025) EllapsedTime: 37.1 seconds RetCode: 0 Status: OK