Package: calm Version: 1.21.0 Command: rm -rf calm.buildbin-libdir && mkdir calm.buildbin-libdir && E:\biocbuild\bbs-3.21-bioc\R\bin\R.exe CMD INSTALL --build --library=calm.buildbin-libdir calm_1.21.0.tar.gz StartedAt: 2025-02-19 07:04:26 -0500 (Wed, 19 Feb 2025) EndedAt: 2025-02-19 07:04:38 -0500 (Wed, 19 Feb 2025) EllapsedTime: 12.0 seconds RetCode: 0 Status: OK PackageFile: calm_1.21.0.zip PackageFileSize: 421.8 KiB