Package: calm Version: 1.21.0 Command: /home/biocbuild/bbs-3.21-bioc/R/bin/R CMD INSTALL calm StartedAt: 2025-02-18 15:09:05 -0500 (Tue, 18 Feb 2025) EndedAt: 2025-02-18 15:09:13 -0500 (Tue, 18 Feb 2025) EllapsedTime: 7.4 seconds RetCode: 0 Status: OK