Package: calm Version: 1.21.0 Command: /Library/Frameworks/R.framework/Resources/bin/R CMD INSTALL calm StartedAt: 2025-02-19 15:07:24 -0500 (Wed, 19 Feb 2025) EndedAt: 2025-02-19 15:07:54 -0500 (Wed, 19 Feb 2025) EllapsedTime: 29.7 seconds RetCode: 0 Status: OK