Package: calm Version: 1.21.0 Command: /Library/Frameworks/R.framework/Resources/bin/R CMD build --keep-empty-dirs --no-resave-data calm StartedAt: 2025-02-18 16:05:57 -0500 (Tue, 18 Feb 2025) EndedAt: 2025-02-18 16:07:57 -0500 (Tue, 18 Feb 2025) EllapsedTime: 119.9 seconds RetCode: 0 Status: OK PackageFile: calm_1.21.0.tar.gz PackageFileSize: 397.3 KiB