Package: calm Version: 1.21.0 Command: /Library/Frameworks/R.framework/Resources/bin/R CMD check --install=check:calm.install-out.txt --library=/Library/Frameworks/R.framework/Resources/library --no-vignettes --timings calm_1.21.0.tar.gz StartedAt: 2025-02-19 18:24:28 -0500 (Wed, 19 Feb 2025) EndedAt: 2025-02-19 18:24:59 -0500 (Wed, 19 Feb 2025) EllapsedTime: 30.4 seconds RetCode: 0 Status: OK CheckDir: calm.Rcheck Warnings: 0