Package: calm Version: 1.21.0 Command: /Library/Frameworks/R.framework/Resources/bin/R CMD build --keep-empty-dirs --no-resave-data calm StartedAt: 2025-02-18 15:48:12 -0500 (Tue, 18 Feb 2025) EndedAt: 2025-02-18 15:49:10 -0500 (Tue, 18 Feb 2025) EllapsedTime: 57.6 seconds RetCode: 0 Status: OK PackageFile: calm_1.21.0.tar.gz PackageFileSize: 397.5 KiB