Package: cageminer Version: 1.13.0 Command: E:\biocbuild\bbs-3.21-bioc\R\bin\R.exe CMD check --no-multiarch --install=check:cageminer.install-out.txt --library=E:\biocbuild\bbs-3.21-bioc\R\library --no-vignettes --timings cageminer_1.13.0.tar.gz StartedAt: 2025-02-20 23:30:37 -0500 (Thu, 20 Feb 2025) EndedAt: 2025-02-20 23:38:54 -0500 (Thu, 20 Feb 2025) EllapsedTime: 496.9 seconds RetCode: 0 Status: OK CheckDir: cageminer.Rcheck Warnings: 0