Package: cageminer Version: 1.13.0 Command: rm -rf cageminer.buildbin-libdir && mkdir cageminer.buildbin-libdir && E:\biocbuild\bbs-3.21-bioc\R\bin\R.exe CMD INSTALL --build --library=cageminer.buildbin-libdir cageminer_1.13.0.tar.gz StartedAt: 2025-02-21 07:42:31 -0500 (Fri, 21 Feb 2025) EndedAt: 2025-02-21 07:43:41 -0500 (Fri, 21 Feb 2025) EllapsedTime: 69.5 seconds RetCode: 0 Status: OK PackageFile: cageminer_1.13.0.zip PackageFileSize: 916.1 KiB