Package: cageminer Version: 1.13.0 Command: /home/biocbuild/bbs-3.21-bioc/R/bin/R CMD INSTALL cageminer StartedAt: 2025-02-20 16:00:28 -0500 (Thu, 20 Feb 2025) EndedAt: 2025-02-20 16:01:20 -0500 (Thu, 20 Feb 2025) EllapsedTime: 52.3 seconds RetCode: 0 Status: OK